BEGIN:VCALENDAR
VERSION:2.0
PRODID:-//Triathlon Philippines - ECPv6.15.20//NONSGML v1.0//EN
CALSCALE:GREGORIAN
METHOD:PUBLISH
X-WR-CALNAME:Triathlon Philippines
X-ORIGINAL-URL:https://triathlonphilippines.com
X-WR-CALDESC:Events for Triathlon Philippines
REFRESH-INTERVAL;VALUE=DURATION:PT1H
X-Robots-Tag:noindex
X-PUBLISHED-TTL:PT1H
BEGIN:VTIMEZONE
TZID:UTC
BEGIN:STANDARD
TZOFFSETFROM:+0000
TZOFFSETTO:+0000
TZNAME:UTC
DTSTART:20250101T000000
END:STANDARD
END:VTIMEZONE
BEGIN:VEVENT
DTSTART;VALUE=DATE:20260516
DTEND;VALUE=DATE:20260517
DTSTAMP:20260425T001146
CREATED:20260330T030002Z
LAST-MODIFIED:20260330T030002Z
UID:9931-1778889600-1778975999@triathlonphilippines.com
SUMMARY:PANASONIC RUN 2026
DESCRIPTION:Step into the future of movement at Panasonic Run 2026 — where innovation meets endurance\, and every stride powers possibility. \nRooted in Panasonic’s tradition of true Japanese excellence\, the event celebrates a lifestyle built on wellness\, discipline\, and smart living. More than just a race\, Panasonic Run 2026 promotes holistic well-being — encouraging people not only to stay active\, but also to take better care of themselves at home through thoughtful\, reliable Panasonic appliances designed to support healthier everyday living. \nAt Panasonic\, progress is powered by innovation and guided by purpose. On May 16\, 2026\, join a community that believes in moving forward — together.
URL:https://triathlonphilippines.com/event/panasonic-run-2026/
CATEGORIES:Run
END:VEVENT
BEGIN:VEVENT
DTSTART;VALUE=DATE:20260831
DTEND;VALUE=DATE:20260901
DTSTAMP:20260425T001146
CREATED:20260330T033840Z
LAST-MODIFIED:20260330T034005Z
UID:9947-1788134400-1788220799@triathlonphilippines.com
SUMMARY:Sydney Marathon
DESCRIPTION:The TCS Sydney Marathon – announced as the newest member of the Abbott World Marathon Majors in November 2024 – is a World Athletics Platinum Label marathon\, and is the sole remaining participant legacy of the Sydney 2000 Olympic Games. The event is owned by Australian Athletics and managed by Pont3.
URL:https://triathlonphilippines.com/event/sydney-marathon/
LOCATION:Sydney Australia\, Australia
CATEGORIES:Run
END:VEVENT
BEGIN:VEVENT
DTSTART;TZID=UTC:20261004T080000
DTEND;TZID=UTC:20261004T170000
DTSTAMP:20260425T001146
CREATED:20260330T033008Z
LAST-MODIFIED:20260330T033008Z
UID:9941-1791100800-1791133200@triathlonphilippines.com
SUMMARY:Sundown Rundown
DESCRIPTION:
URL:https://triathlonphilippines.com/event/sundown-rundown/
LOCATION:Subic Philippies\, Philippines
CATEGORIES:Run
END:VEVENT
BEGIN:VEVENT
DTSTART;TZID=UTC:20261004T080000
DTEND;TZID=UTC:20261004T170000
DTSTAMP:20260425T001146
CREATED:20260330T033449Z
LAST-MODIFIED:20260330T033449Z
UID:9944-1791100800-1791133200@triathlonphilippines.com
SUMMARY:Rizal 2 Laguna 2 Quezon ultra 85k
DESCRIPTION:
URL:https://triathlonphilippines.com/event/rizal-2-laguna-2-quezon-ultra-85k/
CATEGORIES:Run
END:VEVENT
BEGIN:VEVENT
DTSTART;TZID=UTC:20261005T080000
DTEND;TZID=UTC:20261005T170000
DTSTAMP:20260425T001146
CREATED:20260330T025245Z
LAST-MODIFIED:20260330T025245Z
UID:9929-1791187200-1791219600@triathlonphilippines.com
SUMMARY:Takbo Para sa Kalikasan\, Pampanga Edition
DESCRIPTION:Takbo Para sa Kalikasan\, Pampanga Edition
URL:https://triathlonphilippines.com/event/takbo-para-sa-kalikasan-pampanga-edition/
CATEGORIES:Run
END:VEVENT
BEGIN:VEVENT
DTSTART;TZID=UTC:20261012T080000
DTEND;TZID=UTC:20261012T170000
DTSTAMP:20260425T001146
CREATED:20260330T025050Z
LAST-MODIFIED:20260330T025050Z
UID:9926-1791792000-1791824400@triathlonphilippines.com
SUMMARY:Chicago Marathon
DESCRIPTION:Chicago Marathon
URL:https://triathlonphilippines.com/event/chicago-marathon/
LOCATION:Chicago USA\, United States
CATEGORIES:Run
END:VEVENT
BEGIN:VEVENT
DTSTART;VALUE=DATE:20261026
DTEND;VALUE=DATE:20261027
DTSTAMP:20260425T001146
CREATED:20260330T024437Z
LAST-MODIFIED:20260330T024437Z
UID:9920-1792972800-1793059199@triathlonphilippines.com
SUMMARY:Rock N Roll FrontAct
DESCRIPTION:
URL:https://triathlonphilippines.com/event/rock-n-roll-frontact/
LOCATION:Cavite\, Philippines\, Philippines
CATEGORIES:Run
END:VEVENT
BEGIN:VEVENT
DTSTART;TZID=UTC:20261109T080000
DTEND;TZID=UTC:20261109T170000
DTSTAMP:20260425T001146
CREATED:20260330T022738Z
LAST-MODIFIED:20260330T030907Z
UID:9910-1794211200-1794243600@triathlonphilippines.com
SUMMARY:Hoka Finals
DESCRIPTION:The HOKA Midnight Run Asia transforms iconic urban centers – Manila\, Davao\, Cebu\, Iloilo\, CDO\, and Clark – into luminous playgrounds where the night comes alive. This immersive experience redefines what it means to run at night\, as participants traverse neon-lit tracks accompanied by pulsating beats and vibrant energy. More than just a race\, it’s a dynamic celebration of movement and urban spirit that invites you to see the Philippines in a whole new light.
URL:https://triathlonphilippines.com/event/hoka-finals/
LOCATION:MOA Philippines\, Pasay\, Philippines
CATEGORIES:Run
END:VEVENT
BEGIN:VEVENT
DTSTART;TZID=UTC:20261116T080000
DTEND;TZID=UTC:20261116T170000
DTSTAMP:20260425T001146
CREATED:20260330T022617Z
LAST-MODIFIED:20260330T022617Z
UID:9907-1794816000-1794848400@triathlonphilippines.com
SUMMARY:Takbo Para sa Kalikasan\, Earth Run
DESCRIPTION:
URL:https://triathlonphilippines.com/event/takbo-para-sa-kalikasan-earth-run/
CATEGORIES:Run
END:VEVENT
BEGIN:VEVENT
DTSTART;TZID=UTC:20261130T080000
DTEND;TZID=UTC:20261130T170000
DTSTAMP:20260425T001146
CREATED:20260330T014029Z
LAST-MODIFIED:20260330T014029Z
UID:9898-1796025600-1796058000@triathlonphilippines.com
SUMMARY:Asics Rock N Roll\, Manila
DESCRIPTION:Asics Rock N Roll\, Manila
URL:https://triathlonphilippines.com/event/asics-rock-n-roll-manila/
LOCATION:Manila\, Philippines
CATEGORIES:Run
END:VEVENT
END:VCALENDAR