BEGIN:VCALENDAR
VERSION:2.0
PRODID:-//Triathlon Philippines - ECPv6.15.20//NONSGML v1.0//EN
CALSCALE:GREGORIAN
METHOD:PUBLISH
X-ORIGINAL-URL:https://triathlonphilippines.com
X-WR-CALDESC:Events for Triathlon Philippines
REFRESH-INTERVAL;VALUE=DURATION:PT1H
X-Robots-Tag:noindex
X-PUBLISHED-TTL:PT1H
BEGIN:VTIMEZONE
TZID:UTC
BEGIN:STANDARD
TZOFFSETFROM:+0000
TZOFFSETTO:+0000
TZNAME:UTC
DTSTART:20240101T000000
END:STANDARD
END:VTIMEZONE
BEGIN:VEVENT
DTSTART;TZID=UTC:20251005T053000
DTEND;TZID=UTC:20251005T170000
DTSTAMP:20260425T135715
CREATED:20250821T205932Z
LAST-MODIFIED:20250821T205932Z
UID:9835-1759642200-1759683600@triathlonphilippines.com
SUMMARY:Manila Half Marathon
DESCRIPTION:The PUMA Philippine Half Marathon Series is a nationwide movement that unleashes the wild spirit of Filipino runners across six iconic cities. With two cities each in Luzon\, Visayas\, and Mindanao\, this thrilling series brings the excitement of half marathon running closer to home. \nPowered by PUMA\, each leg of the series is a celebration of speed\, strength\, and the unbreakable will to chase greatness. From vibrant cityscapes to scenic routes\, every race challenges you to push limits while embracing the distinct charm of each destination. \nLet’s #GoWild\, and run the country — one city at a time. \nThe PUMA MANILA HALF MARATHON roars into the heart of the capital for a high-energy race that celebrates speed\, spirit\, and Filipino grit. It’s an ode to tourism\, celebrating the beauty of Metro Manila’s iconic landmarks and cultural heritage.
URL:https://triathlonphilippines.com/event/manila-half-marathon/
LOCATION:MOA\, Philippines
CATEGORIES:Run
ATTACH;FMTTYPE=image/jpeg:https://triathlonphilippines.com/wp-content/uploads/2025/08/e.jpg
END:VEVENT
END:VCALENDAR