BEGIN:VCALENDAR
VERSION:2.0
PRODID:-//Triathlon Philippines - ECPv6.15.20//NONSGML v1.0//EN
CALSCALE:GREGORIAN
METHOD:PUBLISH
X-WR-CALNAME:Triathlon Philippines
X-ORIGINAL-URL:https://triathlonphilippines.com
X-WR-CALDESC:Events for Triathlon Philippines
REFRESH-INTERVAL;VALUE=DURATION:PT1H
X-Robots-Tag:noindex
X-PUBLISHED-TTL:PT1H
BEGIN:VTIMEZONE
TZID:UTC
BEGIN:STANDARD
TZOFFSETFROM:+0000
TZOFFSETTO:+0000
TZNAME:UTC
DTSTART:20240101T000000
END:STANDARD
END:VTIMEZONE
BEGIN:VEVENT
DTSTART;TZID=UTC:20251130T080000
DTEND;TZID=UTC:20251130T170000
DTSTAMP:20260425T102923
CREATED:20250716T075737Z
LAST-MODIFIED:20250716T075737Z
UID:9830-1764489600-1764522000@triathlonphilippines.com
SUMMARY:2025 AIA Rock 'n' Roll Running Series Manila
DESCRIPTION:2025 AIA Rock ‘n’ Roll Running Series Manila
URL:https://triathlonphilippines.com/event/2025-aia-rock-n-roll-running-series-manila/
LOCATION:Manila\, Philippines
CATEGORIES:Run
END:VEVENT
END:VCALENDAR