BEGIN:VCALENDAR
VERSION:2.0
PRODID:-//Triathlon Philippines - ECPv6.15.20//NONSGML v1.0//EN
CALSCALE:GREGORIAN
METHOD:PUBLISH
X-ORIGINAL-URL:https://triathlonphilippines.com
X-WR-CALDESC:Events for Triathlon Philippines
REFRESH-INTERVAL;VALUE=DURATION:PT1H
X-Robots-Tag:noindex
X-PUBLISHED-TTL:PT1H
BEGIN:VTIMEZONE
TZID:UTC
BEGIN:STANDARD
TZOFFSETFROM:+0000
TZOFFSETTO:+0000
TZNAME:UTC
DTSTART:20240101T000000
END:STANDARD
END:VTIMEZONE
BEGIN:VEVENT
DTSTART;TZID=UTC:20251026T080000
DTEND;TZID=UTC:20251026T170000
DTSTAMP:20260425T142148
CREATED:20250821T212521Z
LAST-MODIFIED:20250821T212521Z
UID:9844-1761465600-1761498000@triathlonphilippines.com
SUMMARY:Cebu Half Marathon 2025.
DESCRIPTION:Welcome to the\nPUMA Cebu Half Marathon 2025! \nOCTOBER 26\, 2025 | CITY DI MARE \nThe PUMA Philippine Half Marathon Series is a nationwide movement that unleashes the wild spirit of Filipino runners across six iconic cities. With two cities each in Luzon\, Visayas\, and Mindanao\, this thrilling series brings the excitement of half marathon running closer to home. \nPowered by PUMA\, each leg of the series is a celebration of speed\, strength\, and the unbreakable will to chase greatness. From vibrant cityscapes to scenic routes\, every race challenges you to push limits while embracing the distinct charm of each destination. \nLet’s #GoWild\, and run the country — one city at a time. \nThe PUMA CEBU HALF MARATHON storms into the Queen City of the South — a vibrant race that pays tribute to Cebu’s rich history\, coastal charm\, and dynamic culture. \nRun wild along scenic routes that weave through historic streets\, bustling districts\, and ocean views — where every stride reflects the island’s vibrant energy and resilience.
URL:https://triathlonphilippines.com/event/cebu-half-marathon-2025/
LOCATION:Cebu\, Philippines
CATEGORIES:Run
ATTACH;FMTTYPE=image/jpeg:https://triathlonphilippines.com/wp-content/uploads/2025/08/c.jpg
END:VEVENT
END:VCALENDAR