BEGIN:VCALENDAR
VERSION:2.0
PRODID:-//Triathlon Philippines - ECPv6.15.20//NONSGML v1.0//EN
CALSCALE:GREGORIAN
METHOD:PUBLISH
X-WR-CALNAME:Triathlon Philippines
X-ORIGINAL-URL:https://triathlonphilippines.com
X-WR-CALDESC:Events for Triathlon Philippines
REFRESH-INTERVAL;VALUE=DURATION:PT1H
X-Robots-Tag:noindex
X-PUBLISHED-TTL:PT1H
BEGIN:VTIMEZONE
TZID:UTC
BEGIN:STANDARD
TZOFFSETFROM:+0000
TZOFFSETTO:+0000
TZNAME:UTC
DTSTART:20250101T000000
END:STANDARD
END:VTIMEZONE
BEGIN:VEVENT
DTSTART;TZID=UTC:20260322T080000
DTEND;TZID=UTC:20260322T170000
DTSTAMP:20260425T034514
CREATED:20251002T071929Z
LAST-MODIFIED:20251002T185352Z
UID:9848-1774166400-1774198800@triathlonphilippines.com
SUMMARY:Ironman 70.3 Davao 2026
DESCRIPTION:Pre-Event Registration Information\nTo help your registration process we recommend you read and follow the following steps: \nIMPORTANT! You must have a valid IRONMAN profile in order to register for this event. Please click here to create a profile or to verify your username and password if you have an existing account. To save time we recommend you do this prior to online entries opening.\nOnly one entry per email address is accepted. Please ensure you have access to a unique email address to process your registration.\nPrior to online registration opening\, make sure you are logged into your IRONMAN profile. When registration opens click ‘Register Now’\, then select your registration category. Proceed through the registration page as directed.\nOnce the permitted numbers of athletes have entered the registration form\, you may see a notification that registration is “On Hold”. This means that all spots have been claimed by athletes who are in the process of filling out their forms. Registration is NOT yet sold out; if any of those athletes exit the form their slots will become available again. Please check back periodically or refresh the page.\nOnce the permitted numbers of athletes for the event have processed online payment and all slots have been sold\, then you will see an official notification that registration is “Sold Out”. At this point all slots have been claimed and paid for and registration is closed. \nIf you have any difficulty registering\, please contact: Davao70.3@ironman.com \n\n\n\nThe 5th edition of IRONMAN 70.3 Davao is happening in 2026 and entries open this October 3 at 8 AM.\nDon’t miss the experience of racing through Talomo Bay\, the Davao City Coastal Road\, and the vibrant city streets with the iconic red carpet finish line waiting for you.\n#IM703Davao #IRONMANtri #AnythingIsPossible #IRONMANAsia
URL:https://triathlonphilippines.com/event/ironman-70-3-davao-2026/
LOCATION:Davao\, Philippines\, Philippines
CATEGORIES:IRONMAN,Triathlon
END:VEVENT
BEGIN:VEVENT
DTSTART;TZID=UTC:20260330T080000
DTEND;TZID=UTC:20260330T170000
DTSTAMP:20260425T034514
CREATED:20260330T012320Z
LAST-MODIFIED:20260330T012320Z
UID:9885-1774857600-1774890000@triathlonphilippines.com
SUMMARY:Hero 2 Hero Rizal Day Ultra 50k
DESCRIPTION:
URL:https://triathlonphilippines.com/event/hero-2-hero-rizal-day-ultra-50k/
LOCATION:Laguna\, Philippines\, Calamba to Sta Cruz Laguna\, Philippines
CATEGORIES:Run
END:VEVENT
BEGIN:VEVENT
DTSTART;TZID=UTC:20260330T080000
DTEND;TZID=UTC:20260330T170000
DTSTAMP:20260425T034514
CREATED:20260330T024604Z
LAST-MODIFIED:20260330T024604Z
UID:9924-1774857600-1774890000@triathlonphilippines.com
SUMMARY:Yakult 10-Miler
DESCRIPTION:Yakult 10-Miler
URL:https://triathlonphilippines.com/event/yakult-10-miler/
LOCATION:MOA Philippines\, Pasay\, Philippines
CATEGORIES:Run
END:VEVENT
BEGIN:VEVENT
DTSTART;TZID=UTC:20260330T080000
DTEND;TZID=UTC:20260330T170000
DTSTAMP:20260425T034514
CREATED:20260330T031122Z
LAST-MODIFIED:20260330T031122Z
UID:9938-1774857600-1774890000@triathlonphilippines.com
SUMMARY:National Age Group Duathlon Villar City
DESCRIPTION:National Age Group Duathlon Villar City\nApril 12\, 2026
URL:https://triathlonphilippines.com/event/national-age-group-duathlon-villar-city/
LOCATION:Vilar City Philippines\, Philippines
END:VEVENT
END:VCALENDAR