BEGIN:VCALENDAR
VERSION:2.0
PRODID:-//Triathlon Philippines - ECPv6.15.20//NONSGML v1.0//EN
CALSCALE:GREGORIAN
METHOD:PUBLISH
X-WR-CALNAME:Triathlon Philippines
X-ORIGINAL-URL:https://triathlonphilippines.com
X-WR-CALDESC:Events for Triathlon Philippines
REFRESH-INTERVAL;VALUE=DURATION:PT1H
X-Robots-Tag:noindex
X-PUBLISHED-TTL:PT1H
BEGIN:VTIMEZONE
TZID:UTC
BEGIN:STANDARD
TZOFFSETFROM:+0000
TZOFFSETTO:+0000
TZNAME:UTC
DTSTART:20230101T000000
END:STANDARD
END:VTIMEZONE
BEGIN:VEVENT
DTSTART;VALUE=DATE:20240211
DTEND;VALUE=DATE:20240212
DTSTAMP:20260425T161857
CREATED:20240112T083026Z
LAST-MODIFIED:20240112T083026Z
UID:8527-1707609600-1707695999@triathlonphilippines.com
SUMMARY:5150 Triathlon Camsur
DESCRIPTION:
URL:https://triathlonphilippines.com/event/5150-triathlon-camsur/
END:VEVENT
BEGIN:VEVENT
DTSTART;VALUE=DATE:20240204
DTEND;VALUE=DATE:20240205
DTSTAMP:20260425T161857
CREATED:20240112T082845Z
LAST-MODIFIED:20240112T082845Z
UID:8525-1707004800-1707091199@triathlonphilippines.com
SUMMARY:7-Eleven Run 2024
DESCRIPTION:
URL:https://triathlonphilippines.com/event/7-eleven-run-2024/
CATEGORIES:Run
END:VEVENT
BEGIN:VEVENT
DTSTART;VALUE=DATE:20240127
DTEND;VALUE=DATE:20240129
DTSTAMP:20260425T161857
CREATED:20240112T083939Z
LAST-MODIFIED:20240112T084138Z
UID:8533-1706313600-1706486399@triathlonphilippines.com
SUMMARY:1st Danao City International Ultra Trail
DESCRIPTION:Danao City International Ultra Trail: Experience Nature’s Challenge. Join us for an unforgettable adventure through Danao City’s rugged terrain\, where athletes from around the world come to test their limits. Explore lush forests\, rocky trails\, and stunning vistas as you conquer the ultimate ultra trail experience in the Danao City\, Cebu\, Philippines.
URL:https://triathlonphilippines.com/event/1st-danao-city-international-ultra-trail/
CATEGORIES:Run
ATTACH;FMTTYPE=image/png:https://triathlonphilippines.com/wp-content/uploads/2024/01/DANAO.png
END:VEVENT
BEGIN:VEVENT
DTSTART;VALUE=DATE:20240127
DTEND;VALUE=DATE:20240129
DTSTAMP:20260425T161857
CREATED:20240112T082212Z
LAST-MODIFIED:20240112T082212Z
UID:8518-1706313600-1706486399@triathlonphilippines.com
SUMMARY:2024 National Age Group Triathlon Subic
DESCRIPTION:The Start List is now available for the 2024 NATIONAL AGE GROUP TRIATHLON organized by Triathlon Philippines in cooperation with the Subic Bay Metropolitan Authority. \nThis event is a qualifying race for the 2025 Southeast Asian Games in Thailand. This is also a part of the Triathlon Philippines’ triathlon trials and a talent identification for the Philippine Triathlon Team.
URL:https://triathlonphilippines.com/event/2024-national-age-group-triathlon-subic/
CATEGORIES:Triathlon
ATTACH;FMTTYPE=image/jpeg:https://triathlonphilippines.com/wp-content/uploads/2024/01/nagt.jpg
END:VEVENT
BEGIN:VEVENT
DTSTART;VALUE=DATE:20240127
DTEND;VALUE=DATE:20240128
DTSTAMP:20260425T161857
CREATED:20240112T082545Z
LAST-MODIFIED:20240112T082700Z
UID:8521-1706313600-1706399999@triathlonphilippines.com
SUMMARY:Sun Down RunDown
DESCRIPTION:Challenge yourself to a new 10-kilometer personal best or simply jumpstart your fitness journey with us. Hurry! Sign up today at the inaugural Sundown Rundown on January 27\, 2024\, at Ayala Vermosa Sports Hub.
URL:https://triathlonphilippines.com/event/sun-down-rundown/
LOCATION:Vermosa\, Philippines
CATEGORIES:Run
ATTACH;FMTTYPE=image/jpeg:https://triathlonphilippines.com/wp-content/uploads/2024/01/sun1.jpg
END:VEVENT
BEGIN:VEVENT
DTSTART;VALUE=DATE:20240121
DTEND;VALUE=DATE:20240122
DTSTAMP:20260425T161857
CREATED:20240112T081154Z
LAST-MODIFIED:20240112T081329Z
UID:8511-1705795200-1705881599@triathlonphilippines.com
SUMMARY:Fasttwitch Super Enduro Duathlon
DESCRIPTION:RACE YOUR DUATHLON GAME IN 2024 by securing incredible savings with our TIER ZERO rates for these upcoming DUA starter events in 2024! 🎉💰\nTIER ZERO SLOTS ARE LIMITED so mark your calendars for these two exciting races and take advantage of the super early bird registration discounts:\n🔹 Fast Twitch Super Enduro Duathlon\, Clark – January 21\, 2024\n🔹 Clark Duathlon Classic – March 10\, 2024\nVisit our site at https://goclarkph.com/ today and plan for the next race season!
URL:https://triathlonphilippines.com/event/fasttwitch-super-enduro-duathlon/
ATTACH;FMTTYPE=image/jpeg:https://triathlonphilippines.com/wp-content/uploads/2024/01/ft.jpg
END:VEVENT
BEGIN:VEVENT
DTSTART;TZID=UTC:20240112T003000
DTEND;TZID=UTC:20240114T170000
DTSTAMP:20260425T161857
CREATED:20240112T073919Z
LAST-MODIFIED:20240112T081433Z
UID:8509-1705019400-1705251600@triathlonphilippines.com
SUMMARY:Cebu Marathon 2024
DESCRIPTION:The countdown has begun for the highly anticipated Cebu Marathon 2024\, set to take place this January 14\, 2024. Organizers are thrilled to invite participants to join this exhilarating event that promises to deliver an unforgettable race experience.
URL:https://triathlonphilippines.com/event/cebu-marathon-2024/
ATTACH;FMTTYPE=image/jpeg:https://triathlonphilippines.com/wp-content/uploads/2024/01/401552504_840166134570720_6665673861530816048_n.jpg
END:VEVENT
END:VCALENDAR