BEGIN:VCALENDAR
VERSION:2.0
PRODID:-//Triathlon Philippines - ECPv6.15.20//NONSGML v1.0//EN
CALSCALE:GREGORIAN
METHOD:PUBLISH
X-WR-CALNAME:Triathlon Philippines
X-ORIGINAL-URL:https://triathlonphilippines.com
X-WR-CALDESC:Events for Triathlon Philippines
REFRESH-INTERVAL;VALUE=DURATION:PT1H
X-Robots-Tag:noindex
X-PUBLISHED-TTL:PT1H
BEGIN:VTIMEZONE
TZID:UTC
BEGIN:STANDARD
TZOFFSETFROM:+0000
TZOFFSETTO:+0000
TZNAME:UTC
DTSTART:20250101T000000
END:STANDARD
END:VTIMEZONE
BEGIN:VEVENT
DTSTART;TZID=UTC:20261214T080000
DTEND;TZID=UTC:20261214T170000
DTSTAMP:20260425T123642
CREATED:20260330T012941Z
LAST-MODIFIED:20260330T012941Z
UID:9891-1797235200-1797267600@triathlonphilippines.com
SUMMARY:Mt. Fuji International Marathon
DESCRIPTION:
URL:https://triathlonphilippines.com/event/mt-fuji-international-marathon-2/
LOCATION:Tokyo Japan\, Japan
CATEGORIES:Run
END:VEVENT
END:VCALENDAR