BEGIN:VCALENDAR
VERSION:2.0
PRODID:-//Triathlon Philippines - ECPv6.15.20//NONSGML v1.0//EN
CALSCALE:GREGORIAN
METHOD:PUBLISH
X-WR-CALNAME:Triathlon Philippines
X-ORIGINAL-URL:https://triathlonphilippines.com
X-WR-CALDESC:Events for Triathlon Philippines
REFRESH-INTERVAL;VALUE=DURATION:PT1H
X-Robots-Tag:noindex
X-PUBLISHED-TTL:PT1H
BEGIN:VTIMEZONE
TZID:UTC
BEGIN:STANDARD
TZOFFSETFROM:+0000
TZOFFSETTO:+0000
TZNAME:UTC
DTSTART:20230101T000000
END:STANDARD
END:VTIMEZONE
BEGIN:VEVENT
DTSTART;TZID=UTC:20250309T000000
DTEND;TZID=UTC:20250309T000000
DTSTAMP:20260425T105530
CREATED:20250302T191224Z
LAST-MODIFIED:20250302T191630Z
UID:9727-1741478400-1741478400@triathlonphilippines.com
SUMMARY:My Daily Collagen Triathlon 2025
DESCRIPTION:Activities
URL:https://triathlonphilippines.com/event/my-daily-collagen-triathlon-2025/
CATEGORIES:Triathlon
ATTACH;FMTTYPE=image/jpeg:https://triathlonphilippines.com/wp-content/uploads/2025/03/my.jpg
END:VEVENT
BEGIN:VEVENT
DTSTART;TZID=UTC:20241214T000000
DTEND;TZID=UTC:20241215T000000
DTSTAMP:20260425T105530
CREATED:20241111T064009Z
LAST-MODIFIED:20241111T065059Z
UID:9703-1734134400-1734220800@triathlonphilippines.com
SUMMARY:Ironman 70.3 World Championship
DESCRIPTION:2024 VinFast IRONMAN 70.3 World Championship – Taupō\, New Zealand \nTuituia – To be bound together in unity Taupō hosts the very best professional and age group triathletes from all corners of the globe. This will be the first time the IRONMAN 70.3 World Championship has been held in New Zealand and no better place than the home of IRONMAN New Zealand and IRONMAN 70.3 Taupō\, where the best of New Zealand’s breath-taking scenery is showcased\, and thanks to the pure Kiwi spirit\, you will feel like a local the minute you arrive. The race itself will feature a swim in one of the world’s largest freshwater lakes\, a bike course through New Zealand’s renowned rural landscape and a run course which takes in views of the lakefront that will be lined with spectator and local support.
URL:https://triathlonphilippines.com/event/ironman-70-3-world-championship/
CATEGORIES:IRONMAN,Triathlon
ATTACH;FMTTYPE=image/webp:https://triathlonphilippines.com/wp-content/uploads/2024/11/2024-IM70.webp
END:VEVENT
BEGIN:VEVENT
DTSTART;TZID=UTC:20241207T000000
DTEND;TZID=UTC:20241207T000000
DTSTAMP:20260425T105530
CREATED:20241111T064010Z
LAST-MODIFIED:20241111T065145Z
UID:9704-1733529600-1733529600@triathlonphilippines.com
SUMMARY:Rudolf run 5km
DESCRIPTION:Get ready to jingle all the way at the most festive 5KM run of the year\, presenting the Rudolph Run!\nJoin us on Saturday\, December 7th 2024\, at Coquitlam’s beautiful Mundy Park for a holiday event that’s all about fun\, community spirit\, and giving back. \nWe encourage everyone to dress up in your festive attire – rudolphs\, elves\, santas\, and other holiday characters are welcome. Feel free to dress anyway you’d like. All attires are welcome. The 5km route will be sanctioned by BCAthletics. The race will be timed by Startline Timing. This event is capped at 350 runners. \nStart Line: Mundy Park – Field House 1\nDay of Registrations: 10:00AM\nGun Time: 11:00AM\nCourse Closes: 1:00PM
URL:https://triathlonphilippines.com/event/rudolf-run-5km/
LOCATION:Coquitlam\, MUNDY PARK\, Canada
CATEGORIES:Run
ATTACH;FMTTYPE=image/png:https://triathlonphilippines.com/wp-content/uploads/2024/11/Asset26@3x.png
END:VEVENT
BEGIN:VEVENT
DTSTART;TZID=UTC:20241201T000000
DTEND;TZID=UTC:20241201T000000
DTSTAMP:20260425T105530
CREATED:20241111T064009Z
LAST-MODIFIED:20241111T064009Z
UID:9701-1733011200-1733011200@triathlonphilippines.com
SUMMARY:Mcdonald's Stripes Run
DESCRIPTION:
URL:https://triathlonphilippines.com/event/mcdonalds-stripes-run/
CATEGORIES:Run
END:VEVENT
BEGIN:VEVENT
DTSTART;TZID=UTC:20241201T000000
DTEND;TZID=UTC:20241201T000000
DTSTAMP:20260425T105530
CREATED:20241111T064009Z
LAST-MODIFIED:20241111T064009Z
UID:9702-1733011200-1733011200@triathlonphilippines.com
SUMMARY:Singapore Marathon
DESCRIPTION:
URL:https://triathlonphilippines.com/event/singapore-marathon/
CATEGORIES:Run
END:VEVENT
BEGIN:VEVENT
DTSTART;TZID=UTC:20241201T000000
DTEND;TZID=UTC:20241201T000000
DTSTAMP:20260425T105530
CREATED:20241111T064008Z
LAST-MODIFIED:20241111T064008Z
UID:9700-1733011200-1733011200@triathlonphilippines.com
SUMMARY:First Stride challenge
DESCRIPTION:
URL:https://triathlonphilippines.com/event/first-stride-challenge/
CATEGORIES:Run
END:VEVENT
BEGIN:VEVENT
DTSTART;TZID=UTC:20241124T000000
DTEND;TZID=UTC:20241124T000000
DTSTAMP:20260425T105530
CREATED:20241111T064004Z
LAST-MODIFIED:20241111T064004Z
UID:9699-1732406400-1732406400@triathlonphilippines.com
SUMMARY:Asics Rock and Roll Manila
DESCRIPTION:
URL:https://triathlonphilippines.com/event/asics-rock-and-roll-manila/
CATEGORIES:Run
END:VEVENT
BEGIN:VEVENT
DTSTART;TZID=UTC:20241117T000000
DTEND;TZID=UTC:20241117T000000
DTSTAMP:20260425T105530
CREATED:20241111T064004Z
LAST-MODIFIED:20241111T064004Z
UID:9698-1731801600-1731801600@triathlonphilippines.com
SUMMARY:Athleta Ako  Aquathlon
DESCRIPTION:
URL:https://triathlonphilippines.com/event/athleta-ako-aquathlon-2/
CATEGORIES:SWIM
END:VEVENT
BEGIN:VEVENT
DTSTART;TZID=UTC:20241117T000000
DTEND;TZID=UTC:20241117T000000
DTSTAMP:20260425T105531
CREATED:20241111T064003Z
LAST-MODIFIED:20241111T064003Z
UID:9697-1731801600-1731801600@triathlonphilippines.com
SUMMARY:Garmin Run PH
DESCRIPTION:
URL:https://triathlonphilippines.com/event/garmin-run-ph-2/
CATEGORIES:Run
END:VEVENT
BEGIN:VEVENT
DTSTART;TZID=UTC:20241114T000000
DTEND;TZID=UTC:20241114T000000
DTSTAMP:20260425T105531
CREATED:20241111T062446Z
LAST-MODIFIED:20241111T062446Z
UID:9690-1731542400-1731542400@triathlonphilippines.com
SUMMARY:Athleta Ako  Aquathlon
DESCRIPTION:
URL:https://triathlonphilippines.com/event/athleta-ako-aquathlon/
CATEGORIES:Run
END:VEVENT
BEGIN:VEVENT
DTSTART;TZID=UTC:20241113T000000
DTEND;TZID=UTC:20241113T000000
DTSTAMP:20260425T105531
CREATED:20241111T062446Z
LAST-MODIFIED:20241111T062446Z
UID:9689-1731456000-1731456000@triathlonphilippines.com
SUMMARY:Garmin Run PH
DESCRIPTION:
URL:https://triathlonphilippines.com/event/garmin-run-ph/
CATEGORIES:Run
END:VEVENT
BEGIN:VEVENT
DTSTART;TZID=UTC:20241112T000000
DTEND;TZID=UTC:20241112T000000
DTSTAMP:20260425T105531
CREATED:20241111T062446Z
LAST-MODIFIED:20241111T062446Z
UID:9688-1731369600-1731369600@triathlonphilippines.com
SUMMARY:JCO Run PH
DESCRIPTION:
URL:https://triathlonphilippines.com/event/jco-run-ph/
CATEGORIES:Run
END:VEVENT
BEGIN:VEVENT
DTSTART;TZID=UTC:20241111T000000
DTEND;TZID=UTC:20241111T000000
DTSTAMP:20260425T105531
CREATED:20241111T062445Z
LAST-MODIFIED:20250302T191224Z
UID:9687-1731283200-1731283200@triathlonphilippines.com
SUMMARY:Duaman
DESCRIPTION:
URL:https://triathlonphilippines.com/event/duaman/
CATEGORIES:Run
END:VEVENT
BEGIN:VEVENT
DTSTART;TZID=UTC:20241110T000000
DTEND;TZID=UTC:20241110T000000
DTSTAMP:20260425T105531
CREATED:20241111T064003Z
LAST-MODIFIED:20241111T064003Z
UID:9696-1731196800-1731196800@triathlonphilippines.com
SUMMARY:JCO Run PH
DESCRIPTION:
URL:https://triathlonphilippines.com/event/jco-run-ph-2/
CATEGORIES:Run
END:VEVENT
BEGIN:VEVENT
DTSTART;VALUE=DATE:20240928
DTEND;VALUE=DATE:20240929
DTSTAMP:20260425T105531
CREATED:20240626T151209Z
LAST-MODIFIED:20240626T160206Z
UID:9538-1727481600-1727567999@triathlonphilippines.com
SUMMARY:IRONMAN 5150 Triathlon Series Dapitan
DESCRIPTION:After the remarkable weekend at the Heritage City of Dapitan\, we invite you to join us on 8 September 2024!\n\nAs part of the 5150 Triathlon Series in the Philippines\, the race equals 51.50 kilometers (1.5km swim\, 40km bike and 10km run). The swim starts in Sta. Cruz beach near Punto del Desembarco De Rizal en Dapitn\, with a bike course that goes through the Dipolog-Oroquieta National Road\, and a run course lined with spectacular spectators on scenic and historic streets.\n\nIf you’re keen on doing a shorter distance\, the Sunrise Sprint will be held which features 750m open-water swim\, 20km bike and 5km run\, might be perfect for you.\n\nThis is the second year of a sought-after race with festival events showcasing a return to the past\, in the times of our National Hero\, Dr. Jose Rizal. \nDiscover Philippines\n\n\n Dakak Beach\nThe Rizal Shrine\nSt. Jame’s the Greater Church\n Ilihan Hill\n\nPlaces to stay\n\nDakak Park & Beach Resort\nVilla Angelina Luxury Suites\n Dapitan Beach Resort Hotel
URL:https://triathlonphilippines.com/event/ironman-5150-triathlon-series-dapitan/
CATEGORIES:Triathlon
END:VEVENT
BEGIN:VEVENT
DTSTART;TZID=UTC:20240922T080000
DTEND;TZID=UTC:20240922T170000
DTSTAMP:20260425T105531
CREATED:20240626T163953Z
LAST-MODIFIED:20240626T164117Z
UID:9566-1726992000-1727024400@triathlonphilippines.com
SUMMARY:Canada Army Run
DESCRIPTION:CANADA ARMY RUN CONTINUES WITH ITS HYBRID FORMAT AND COMES BACK TO FULL-FORCE IN-PERSON RACING\, bringing back its popular Half Marathon and 5K + 21.1K Commander’s Challenge. For the first time\, dog tag finish medals are offered for virtual participants\, and the virtual Commander’s Challenge is expanded to include the 5K\, 10K and 21.1K races.
URL:https://triathlonphilippines.com/event/canada-army-run/
LOCATION:Ottawa St\, Windsor\, ON\, Canada\, Canada
CATEGORIES:Run
ATTACH;FMTTYPE=image/png:https://triathlonphilippines.com/wp-content/uploads/2024/06/contact_participant-on-phone.png
END:VEVENT
BEGIN:VEVENT
DTSTART;TZID=UTC:20240811T070000
DTEND;TZID=UTC:20240811T130000
DTSTAMP:20260425T105531
CREATED:20240304T061209Z
LAST-MODIFIED:20240304T061209Z
UID:8976-1723359600-1723381200@triathlonphilippines.com
SUMMARY:Ironman 70.3 Davao
DESCRIPTION:The time is now!!! Flex90 Benefits offer will close tonight  \nWe hope you will join us in Davao on August!  \nRegister here  https://www.ironman.com/im703-davao-philippines-register
URL:https://triathlonphilippines.com/event/ironman-70-3-davao/
LOCATION:Davao\, Philippines\, Philippines
CATEGORIES:Triathlon
ATTACH;FMTTYPE=image/jpeg:https://triathlonphilippines.com/wp-content/uploads/2024/03/davao.jpg
END:VEVENT
BEGIN:VEVENT
DTSTART;TZID=UTC:20240714T080000
DTEND;TZID=UTC:20240714T170000
DTSTAMP:20260425T105531
CREATED:20240304T061957Z
LAST-MODIFIED:20240626T150815Z
UID:8981-1720944000-1720976400@triathlonphilippines.com
SUMMARY:Triathlon 5150 Sunlife Bohol
DESCRIPTION:Participants will swim in pristine clear waters\, bike through picturesque countryside\, and run along coastal roads lined with vibrant spectators. The tropical atmosphere of Bohol adds an extra layer of allure to the races. \nAs part of the 5150 Triathlon Series in the Philippines\, the race equals 51 kilometers (1.5km swim\, 40km bike and 10km run). This distance is considered a great option for athletes new to the sport\, or experienced athletes to gain base and improve their race. \nA short-distance event\, dubbed as S2\, features 750m open-water swim\, 20km bike and 5km run. It is the sub-category to the centerpiece 5150 Triathlon series\, aimed at allowing new and upcoming triathletes to experience triathlon in quality Olympic-style course set up\, and for athletes looking to make a comeback in the ever-growing sport. \nStart Your Journey\n\nEvery journey begins with a single step. This is yours. Entries for the 2024 event will be limited and are expected to be in high demand\, we therefore encourage you to secure your place early. Once registered don’t forget to follow us on social media for great content and updates. #AnythingisPossible
URL:https://triathlonphilippines.com/event/triathlon-5150-sunlife-bohol/
LOCATION:Bohol\, Philippines\, Philippines
ATTACH;FMTTYPE=image/jpeg:https://triathlonphilippines.com/wp-content/uploads/2024/03/bohol.jpg
END:VEVENT
BEGIN:VEVENT
DTSTART;TZID=UTC:20240626T080000
DTEND;TZID=UTC:20240626T170000
DTSTAMP:20260425T105531
CREATED:20240626T155033Z
LAST-MODIFIED:20240626T155033Z
UID:9552-1719388800-1719421200@triathlonphilippines.com
SUMMARY:Challenge Istanbul
DESCRIPTION:RACE CATEGORIES \n\n\n\nCategories\nAge\nSwim\nBike\nRun\n\n\nAge Group\n20+\n2.3km\n40km\n10km\n\n\nTriathlon Relay\n20+\n2.3km\n40km\n10km\n\n\n\nThe race distances are 2.3 km swim\, 40 km bike and 10 km run. \nAge groups categories; 20-24\, 25-29\, 30-34\, 35-39\, 40-44\, 45-49\, 50-54\, 55-59\, 60-64\, 65+ male and female. \nTriathlon Relay: Women Relay Team\, Men Relay Team\, Mixed Relay Team \nThe competition is restricted to athletes  born in 2004 and before. \nREGISTRATIONS \nThe deadline is August 23th 2024 on Friday at 23.59. System will be locked down after the specified date and time. Province Approval Document will not be required for the age group category. \nDistribution of Race Kit will be in Kucuksu Meadow. (Click for Google maps) \nORAL B CHALLENGE İSTANBUL (OLYMPIC DISTANCE) \nENTRY FEE \nIndividual \n\n\n\nTear 1\n1 May – 2 June 2024\n80 Euro\n\n\nTear 2\n3 June – 31 July 2024\n85 Euro\n\n\nTear 3\n1 – 23 August 2024\n90 Euro\n\n\n\nRelay \n\n\n\nTear 1\n1 May – 2 June 2024\n150 Euro\n\n\nTear 2\n3 June – 31 July 2024\n160 Euro\n\n\nTear 3\n1 – 23 August 2024\n180 Euro\n\n\n\nTTF Licensed Individual Registration \n\n\n\nTear 1\n1 May – 2 June 2024\n40 Euro\n\n\nTear 2\n3 June – 31 July 2024\n45 Euro\n\n\nTear 3\n1 – 23 August 2024\n50 Euro\n\n\n\nTTF Licensed Relay Registratiton \n\n\n\nTear 1\n1 May – 2 June 2024\n100 Euro\n\n\nTear 2\n3 June – 31 July 2024\n110 Euro\n\n\nTear 3\n1 – 23 August 2024\n120 Euro\n\n\n\nDaily license application will be made for those who do not have a license. \nIMPORTANT POINTS \n\n\nNo refunds will be made except for force majeure (natural disasters\, flood\, fire\, earthquake\, social events\, terrorism) that may require the postponement and/or cancellation of the competition. \n\n\nThe fee paid for Oral-B Challenge İstanbul cannot be transferred to another competition. It cannot be transferred to a different person. \n\n\nInjury etc. With excuses\, team registration cannot be converted into individual registration\, nor individual registration into team registration. \n\n\nWrong entry of birth date etc. during registration. For any reason\, errors that may control the category and the podium must be corrected before the competition date. This responsibility belongs to the participant. The organization cannot be held responsible for any errors that may occur due to user information entry. \n\n\nUsers who receive a TTF license discount are required to have a Turkish Triathlon License with a visa during registration. Athletes who cannot present a Turkish Triathlon License with a visa can participate in the competition by paying the standard registration fee and an additional daily license fee (15€). The discounted fee paid by participants who cannot present a visa license in accordance with Article 1 will not be refunded. \n\n\nThe participant declares that he/she is aware of and accepts the conditions stated during registration\, in particular the conditions regarding no refunds. \n\n\nCHIP DISTRIBUTION AND CHIP USAGE \nTime chips will be distributed at the place and time specified in the program. If a person does not take his/her chip and race kit in time\, Chip and kit is given under some conditions in order to not to suffer any victimization to their friend or trainer. That persons should submit ID card’s copy\, licence and a petition letter which should be about taking the chip. Chips should be worn on the ankle and not removed during the race. \nTECHNICAL MEETING \nTechnical meeting will be held online withTTF Youtube page. Participation in Technical meeting is important in terms of to get pre-information about changes. The changes that are not foreseen before the organization and that are necessary for a safer conduct of the organization will be announced by the Organization Committee in the technical meeting via taking the opinion of the competition commission. All athletes will be accepted as participated to the meeting. Persons who did not attend the technical meeting\, will be deemed to have accepted any changed situation. \nCONTACT \n\n\n\nWhat\nContact\n\n\nRace Director\nFaruk Sarıbayır\n\n\nPhone\n+90 312 309 25 70\n\n\nE-mail (Race Director)\nfaruksaribayir@triatlon.org.tr\n\n\nE-mail (Race Office)\nchallenge@triatlon.org.tr\n\n\n\nWEATHER FORECAST AND SEA CONDITION \nWeather Forecast \nAverage Temperature 24C \nAverage Minimum Temperature 19C \nSea Temperature \nExpected Sea Temperature 23C
URL:https://triathlonphilippines.com/event/challenge-istanbul/
LOCATION:Istanbul\, Turkey
CATEGORIES:Triathlon
ATTACH;FMTTYPE=image/jpeg:https://triathlonphilippines.com/wp-content/uploads/2024/06/challengeistanbul2024haber.jpg
END:VEVENT
BEGIN:VEVENT
DTSTART;TZID=UTC:20240626T080000
DTEND;TZID=UTC:20240626T170000
DTSTAMP:20260425T105531
CREATED:20240626T153926Z
LAST-MODIFIED:20240626T153926Z
UID:9550-1719388800-1719421200@triathlonphilippines.com
SUMMARY:TriFactor Triathlon - Singapore
DESCRIPTION:Come and join us in the awesome experience of participating in the one-of-a-kind TriFactor Triathlon! Don’t miss your chance to be part of an amazing event! Join us for the unforgettable TriFactor Festival and experience cutting-edge sport science hacks\, a rehabilitation village\, and a family-friendly fun zone. Enjoy a range of activities from competitive races to family bonding\, and push yourself to new heights in your sporting practice. With something tailored for everyone\, this one-of-a-kind Festival is a must-attend event.
URL:https://triathlonphilippines.com/event/trifactor-triathlon-singapore/
CATEGORIES:Triathlon
END:VEVENT
BEGIN:VEVENT
DTSTART;TZID=UTC:20240626T080000
DTEND;TZID=UTC:20240626T170000
DTSTAMP:20260425T105531
CREATED:20240626T153646Z
LAST-MODIFIED:20240626T153646Z
UID:9547-1719388800-1719421200@triathlonphilippines.com
SUMMARY:Perak Triathlon Sprint
DESCRIPTION:Located on the beautiful coast of Teluk Muroh in Malaysia’s Perak region\, Marina Island Pangkor is a must-visit destination for international travelers. This stunning reclaimed land spans over 316.9 acres and is connected to the mainland by a 400-meter causeway bridge. As a gateway to the popular holiday retreats of Pangkor Island and Pangkor Laut\, Marina Island Pangkor offers endless opportunities for adventure and relaxation. And in the near future\, this idyllic spot will also be home to the fifth edition of the Perak Triathlon\, an exciting race organized by XS Elite Performance. Whether you’re a seasoned triathlete or just looking for a unique experience\, Marina Island Pangkor is the perfect place to make unforgettable memories.
URL:https://triathlonphilippines.com/event/perak-triathlon-sprint/
LOCATION:Malaysia\, Malaysia
CATEGORIES:Triathlon
END:VEVENT
BEGIN:VEVENT
DTSTART;TZID=UTC:20240626T080000
DTEND;TZID=UTC:20240626T170000
DTSTAMP:20260425T105531
CREATED:20240626T152959Z
LAST-MODIFIED:20240626T153502Z
UID:9542-1719388800-1719421200@triathlonphilippines.com
SUMMARY:Kisarazu Triathlon
DESCRIPTION:For more info\nhttps://kisarazu-tri.com/index.html
URL:https://triathlonphilippines.com/event/kisarazu-triathlon/
CATEGORIES:Triathlon
ATTACH;FMTTYPE=image/jpeg:https://triathlonphilippines.com/wp-content/uploads/2024/06/bnr_restube.jpg
END:VEVENT
BEGIN:VEVENT
DTSTART;TZID=UTC:20240623T080000
DTEND;TZID=UTC:20240623T170000
DTSTAMP:20260425T105531
CREATED:20240302T105934Z
LAST-MODIFIED:20240302T105934Z
UID:8941-1719129600-1719162000@triathlonphilippines.com
SUMMARY:𝗖𝗹𝗮𝗿𝗸 𝗧𝗿𝗶𝗮𝘁𝗵𝗹𝗼𝗻 𝗖𝗹𝗮𝘀𝘀𝗶𝗰 𝟮𝟬𝟮𝟰
DESCRIPTION:𝗝𝗼𝗶𝗻 𝘁𝗵𝗲 𝗘𝘅𝗰𝗶𝘁𝗲𝗺𝗲𝗻𝘁: 𝟮𝟬𝟮𝟰 𝗖𝗹𝗮𝗿𝗸 𝗧𝗿𝗶𝗮𝘁𝗵𝗹𝗼𝗻 𝗖𝗹𝗮𝘀𝘀𝗶𝗰 𝗥𝗲𝗴𝗶𝘀𝘁𝗿𝗮𝘁𝗶𝗼𝗻 𝗡𝗼𝘄 𝗢𝗽𝗲𝗻!\n\n\nAre you ready to dive into the thrilling world of triathlon? Whether you’re a seasoned athlete or just starting out\, we’re thrilled to invite you to the 2024 Clark Triathlon Classic! This is your chance to challenge yourself\, achieve new goals\, and be part of an incredible community.\n\n\nDate: JUNE 23\, 2024\nLocation: Fontana Leisure Park\, Clark Freeport\, Pampanga\nCategories: CTC FULL (700M swim+ 40km bike+ 7km run)/CTC SPRINT CTC FULL (350M swim+ 20km bike+ 3.5km run)\nEntry Level: All skill levels welcome\, from beginners to OGs\n\n\n𝐖𝐡𝐲 𝐉𝐨𝐢𝐧 𝐭𝐡𝐞 𝐂𝐥𝐚𝐫𝐤 𝐓𝐫𝐢𝐚𝐭𝐡𝐥𝐨𝐧 𝐂𝐥𝐚𝐬𝐬𝐢𝐜?\n\n\n-Beginner-Friendly Environment: Perfect for first-timers! Guidance and support at every step\n-Scenic Routes: Experience the breathtaking landscapes of Clark\n-Community Spirit: Join a vibrant community of like-minded athletes\n-Memorable Race Experience: Make unforgettable memories and new friendships\n-RaceKitGoals: Value-Added Race Kit Inclusions
URL:https://triathlonphilippines.com/event/%f0%9d%97%96%f0%9d%97%b9%f0%9d%97%ae%f0%9d%97%bf%f0%9d%97%b8-%f0%9d%97%a7%f0%9d%97%bf%f0%9d%97%b6%f0%9d%97%ae%f0%9d%98%81%f0%9d%97%b5%f0%9d%97%b9%f0%9d%97%bc%f0%9d%97%bb-%f0%9d%97%96%f0%9d%97%b9/
LOCATION:Clark\, Philippines\, Philippines
ATTACH;FMTTYPE=image/jpeg:https://triathlonphilippines.com/wp-content/uploads/2024/03/cl.jpg
END:VEVENT
BEGIN:VEVENT
DTSTART;TZID=UTC:20240609T080000
DTEND;TZID=UTC:20240609T170000
DTSTAMP:20260425T105531
CREATED:20240302T113357Z
LAST-MODIFIED:20240302T113357Z
UID:8973-1717920000-1717952400@triathlonphilippines.com
SUMMARY:IRONMAN 70.3 Subic Bay
DESCRIPTION:
URL:https://triathlonphilippines.com/event/ironman-70-3-subic-bay/
LOCATION:Subic Philippies\, Philippines
CATEGORIES:Triathlon
ATTACH;FMTTYPE=image/jpeg:https://triathlonphilippines.com/wp-content/uploads/2024/03/sub.jpg
END:VEVENT
BEGIN:VEVENT
DTSTART;TZID=UTC:20240519T050000
DTEND;TZID=UTC:20240519T170000
DTSTAMP:20260425T105531
CREATED:20240408T072554Z
LAST-MODIFIED:20240408T072609Z
UID:9046-1716094800-1716138000@triathlonphilippines.com
SUMMARY:New Clark City Marathon
DESCRIPTION:Don’t let time run out on our incredible 4.4 promo for New Clark City Marathon! It’s your final chance to snag that P200.00 discount on registration fees. Promo ends on April 06\, 2024 at 11:59PM.
URL:https://triathlonphilippines.com/event/new-clark-city-marathon/
LOCATION:Clark\, Philippines\, Philippines
CATEGORIES:Run
ATTACH;FMTTYPE=image/jpeg:https://triathlonphilippines.com/wp-content/uploads/2024/04/clark.jpg
END:VEVENT
BEGIN:VEVENT
DTSTART;TZID=UTC:20240506T080000
DTEND;TZID=UTC:20240506T170000
DTSTAMP:20260425T105531
CREATED:20240302T104656Z
LAST-MODIFIED:20240302T104656Z
UID:8930-1714982400-1715014800@triathlonphilippines.com
SUMMARY:Sundown Duathlon
DESCRIPTION:
URL:https://triathlonphilippines.com/event/sundown-duathlon/
ATTACH;FMTTYPE=image/png:https://triathlonphilippines.com/wp-content/uploads/2024/03/dua.png
END:VEVENT
BEGIN:VEVENT
DTSTART;TZID=UTC:20240428T080000
DTEND;TZID=UTC:20240428T170000
DTSTAMP:20260425T105531
CREATED:20240304T070927Z
LAST-MODIFIED:20240304T070927Z
UID:8985-1714291200-1714323600@triathlonphilippines.com
SUMMARY:Run For Abbotsford
DESCRIPTION:MARK YOUR CALENDARS!\n1st annual Run For Abbotsford in support of Abbotsford Regional Hospital and Cancer Centre.\nRegister at: https://runforabbotsford.ca\n\n\nAbbotsford\, British Columbia
URL:https://triathlonphilippines.com/event/run-for-abbotsford/
LOCATION:Abbotsford\,BC\, Canada
CATEGORIES:Run
ATTACH;FMTTYPE=image/jpeg:https://triathlonphilippines.com/wp-content/uploads/2024/03/abbot.jpg
END:VEVENT
BEGIN:VEVENT
DTSTART;TZID=UTC:20240421T080000
DTEND;TZID=UTC:20240421T170000
DTSTAMP:20260425T105531
CREATED:20240302T113044Z
LAST-MODIFIED:20240302T113044Z
UID:8969-1713686400-1713718800@triathlonphilippines.com
SUMMARY:IRONMAN 70.3 Lapu-Lapu
DESCRIPTION:
URL:https://triathlonphilippines.com/event/ironman-70-3-lapu-lapu/
LOCATION:Cebu\, Philippines
CATEGORIES:Triathlon
ATTACH;FMTTYPE=image/jpeg:https://triathlonphilippines.com/wp-content/uploads/2024/03/lapu.jpg
END:VEVENT
BEGIN:VEVENT
DTSTART;TZID=UTC:20240414T080000
DTEND;TZID=UTC:20240414T170000
DTSTAMP:20260425T105531
CREATED:20240302T112834Z
LAST-MODIFIED:20240302T112834Z
UID:8966-1713081600-1713114000@triathlonphilippines.com
SUMMARY:PTO Asian Open Singapore 2024
DESCRIPTION:
URL:https://triathlonphilippines.com/event/pto-asian-open-singapore-2024/
LOCATION:Singapore\, Singapore
CATEGORIES:Triathlon
ATTACH;FMTTYPE=image/jpeg:https://triathlonphilippines.com/wp-content/uploads/2019/06/423160307_7079119418872278_2611917754786209038_n.jpg
END:VEVENT
BEGIN:VEVENT
DTSTART;TZID=UTC:20240413T080000
DTEND;TZID=UTC:20240414T170000
DTSTAMP:20260425T105531
CREATED:20240302T112156Z
LAST-MODIFIED:20240302T112156Z
UID:8963-1712995200-1713114000@triathlonphilippines.com
SUMMARY:Tour of Clark
DESCRIPTION:
URL:https://triathlonphilippines.com/event/tour-of-clark/
LOCATION:Clark\, Philippines\, Philippines
CATEGORIES:Cycling
ATTACH;FMTTYPE=image/jpeg:https://triathlonphilippines.com/wp-content/uploads/2024/03/tour.jpg
END:VEVENT
END:VCALENDAR