BEGIN:VCALENDAR
VERSION:2.0
PRODID:-//Triathlon Philippines - ECPv6.15.20//NONSGML v1.0//EN
CALSCALE:GREGORIAN
METHOD:PUBLISH
X-ORIGINAL-URL:https://triathlonphilippines.com
X-WR-CALDESC:Events for Triathlon Philippines
REFRESH-INTERVAL;VALUE=DURATION:PT1H
X-Robots-Tag:noindex
X-PUBLISHED-TTL:PT1H
BEGIN:VTIMEZONE
TZID:UTC
BEGIN:STANDARD
TZOFFSETFROM:+0000
TZOFFSETTO:+0000
TZNAME:UTC
DTSTART:20230101T000000
END:STANDARD
END:VTIMEZONE
BEGIN:VEVENT
DTSTART;TZID=UTC:20260322T080000
DTEND;TZID=UTC:20260322T170000
DTSTAMP:20260425T015919
CREATED:20251002T071929Z
LAST-MODIFIED:20251002T185352Z
UID:9848-1774166400-1774198800@triathlonphilippines.com
SUMMARY:Ironman 70.3 Davao 2026
DESCRIPTION:Pre-Event Registration Information\nTo help your registration process we recommend you read and follow the following steps: \nIMPORTANT! You must have a valid IRONMAN profile in order to register for this event. Please click here to create a profile or to verify your username and password if you have an existing account. To save time we recommend you do this prior to online entries opening.\nOnly one entry per email address is accepted. Please ensure you have access to a unique email address to process your registration.\nPrior to online registration opening\, make sure you are logged into your IRONMAN profile. When registration opens click ‘Register Now’\, then select your registration category. Proceed through the registration page as directed.\nOnce the permitted numbers of athletes have entered the registration form\, you may see a notification that registration is “On Hold”. This means that all spots have been claimed by athletes who are in the process of filling out their forms. Registration is NOT yet sold out; if any of those athletes exit the form their slots will become available again. Please check back periodically or refresh the page.\nOnce the permitted numbers of athletes for the event have processed online payment and all slots have been sold\, then you will see an official notification that registration is “Sold Out”. At this point all slots have been claimed and paid for and registration is closed. \nIf you have any difficulty registering\, please contact: Davao70.3@ironman.com \n\n\n\nThe 5th edition of IRONMAN 70.3 Davao is happening in 2026 and entries open this October 3 at 8 AM.\nDon’t miss the experience of racing through Talomo Bay\, the Davao City Coastal Road\, and the vibrant city streets with the iconic red carpet finish line waiting for you.\n#IM703Davao #IRONMANtri #AnythingIsPossible #IRONMANAsia
URL:https://triathlonphilippines.com/event/ironman-70-3-davao-2026/
LOCATION:Davao\, Philippines\, Philippines
CATEGORIES:IRONMAN,Triathlon
END:VEVENT
BEGIN:VEVENT
DTSTART;TZID=UTC:20250810T080000
DTEND;TZID=UTC:20250810T170000
DTSTAMP:20260425T015919
CREATED:20250715T053751Z
LAST-MODIFIED:20250715T053751Z
UID:9825-1754812800-1754845200@triathlonphilippines.com
SUMMARY:Sunrise sprint
DESCRIPTION:
URL:https://triathlonphilippines.com/event/sunrise-sprint/
LOCATION:Cebu\, Philippines
CATEGORIES:Triathlon
END:VEVENT
BEGIN:VEVENT
DTSTART;VALUE=DATE:20250615
DTEND;VALUE=DATE:20250616
DTSTAMP:20260425T015919
CREATED:20241113T171309Z
LAST-MODIFIED:20241113T171327Z
UID:9713-1749945600-1750031999@triathlonphilippines.com
SUMMARY:Ironman 70.3 Subic Philippines
DESCRIPTION:The IRONMAN 70.3 in Subic Bay is back on 15 June 2025! Whether it’s your first time or can’t wait to experience it all over again\, it’s time to go all in on 2025
URL:https://triathlonphilippines.com/event/ironman-70-3-subic-philippines/
CATEGORIES:IRONMAN,Triathlon
ATTACH;FMTTYPE=image/jpeg:https://triathlonphilippines.com/wp-content/uploads/2024/11/im.jpg
END:VEVENT
BEGIN:VEVENT
DTSTART;TZID=UTC:20250309T000000
DTEND;TZID=UTC:20250309T000000
DTSTAMP:20260425T015919
CREATED:20250302T191224Z
LAST-MODIFIED:20250302T191630Z
UID:9727-1741478400-1741478400@triathlonphilippines.com
SUMMARY:My Daily Collagen Triathlon 2025
DESCRIPTION:Activities
URL:https://triathlonphilippines.com/event/my-daily-collagen-triathlon-2025/
CATEGORIES:Triathlon
ATTACH;FMTTYPE=image/jpeg:https://triathlonphilippines.com/wp-content/uploads/2025/03/my.jpg
END:VEVENT
BEGIN:VEVENT
DTSTART;TZID=UTC:20241214T000000
DTEND;TZID=UTC:20241215T000000
DTSTAMP:20260425T015919
CREATED:20241111T064009Z
LAST-MODIFIED:20241111T065059Z
UID:9703-1734134400-1734220800@triathlonphilippines.com
SUMMARY:Ironman 70.3 World Championship
DESCRIPTION:2024 VinFast IRONMAN 70.3 World Championship – Taupō\, New Zealand \nTuituia – To be bound together in unity Taupō hosts the very best professional and age group triathletes from all corners of the globe. This will be the first time the IRONMAN 70.3 World Championship has been held in New Zealand and no better place than the home of IRONMAN New Zealand and IRONMAN 70.3 Taupō\, where the best of New Zealand’s breath-taking scenery is showcased\, and thanks to the pure Kiwi spirit\, you will feel like a local the minute you arrive. The race itself will feature a swim in one of the world’s largest freshwater lakes\, a bike course through New Zealand’s renowned rural landscape and a run course which takes in views of the lakefront that will be lined with spectator and local support.
URL:https://triathlonphilippines.com/event/ironman-70-3-world-championship/
CATEGORIES:IRONMAN,Triathlon
ATTACH;FMTTYPE=image/webp:https://triathlonphilippines.com/wp-content/uploads/2024/11/2024-IM70.webp
END:VEVENT
BEGIN:VEVENT
DTSTART;VALUE=DATE:20240928
DTEND;VALUE=DATE:20240929
DTSTAMP:20260425T015919
CREATED:20240626T151209Z
LAST-MODIFIED:20240626T160206Z
UID:9538-1727481600-1727567999@triathlonphilippines.com
SUMMARY:IRONMAN 5150 Triathlon Series Dapitan
DESCRIPTION:After the remarkable weekend at the Heritage City of Dapitan\, we invite you to join us on 8 September 2024!\n\nAs part of the 5150 Triathlon Series in the Philippines\, the race equals 51.50 kilometers (1.5km swim\, 40km bike and 10km run). The swim starts in Sta. Cruz beach near Punto del Desembarco De Rizal en Dapitn\, with a bike course that goes through the Dipolog-Oroquieta National Road\, and a run course lined with spectacular spectators on scenic and historic streets.\n\nIf you’re keen on doing a shorter distance\, the Sunrise Sprint will be held which features 750m open-water swim\, 20km bike and 5km run\, might be perfect for you.\n\nThis is the second year of a sought-after race with festival events showcasing a return to the past\, in the times of our National Hero\, Dr. Jose Rizal. \nDiscover Philippines\n\n\n Dakak Beach\nThe Rizal Shrine\nSt. Jame’s the Greater Church\n Ilihan Hill\n\nPlaces to stay\n\nDakak Park & Beach Resort\nVilla Angelina Luxury Suites\n Dapitan Beach Resort Hotel
URL:https://triathlonphilippines.com/event/ironman-5150-triathlon-series-dapitan/
CATEGORIES:Triathlon
END:VEVENT
BEGIN:VEVENT
DTSTART;TZID=UTC:20240811T070000
DTEND;TZID=UTC:20240811T130000
DTSTAMP:20260425T015919
CREATED:20240304T061209Z
LAST-MODIFIED:20240304T061209Z
UID:8976-1723359600-1723381200@triathlonphilippines.com
SUMMARY:Ironman 70.3 Davao
DESCRIPTION:The time is now!!! Flex90 Benefits offer will close tonight  \nWe hope you will join us in Davao on August!  \nRegister here  https://www.ironman.com/im703-davao-philippines-register
URL:https://triathlonphilippines.com/event/ironman-70-3-davao/
LOCATION:Davao\, Philippines\, Philippines
CATEGORIES:Triathlon
ATTACH;FMTTYPE=image/jpeg:https://triathlonphilippines.com/wp-content/uploads/2024/03/davao.jpg
END:VEVENT
BEGIN:VEVENT
DTSTART;TZID=UTC:20240626T080000
DTEND;TZID=UTC:20240626T170000
DTSTAMP:20260425T015919
CREATED:20240626T155033Z
LAST-MODIFIED:20240626T155033Z
UID:9552-1719388800-1719421200@triathlonphilippines.com
SUMMARY:Challenge Istanbul
DESCRIPTION:RACE CATEGORIES \n\n\n\nCategories\nAge\nSwim\nBike\nRun\n\n\nAge Group\n20+\n2.3km\n40km\n10km\n\n\nTriathlon Relay\n20+\n2.3km\n40km\n10km\n\n\n\nThe race distances are 2.3 km swim\, 40 km bike and 10 km run. \nAge groups categories; 20-24\, 25-29\, 30-34\, 35-39\, 40-44\, 45-49\, 50-54\, 55-59\, 60-64\, 65+ male and female. \nTriathlon Relay: Women Relay Team\, Men Relay Team\, Mixed Relay Team \nThe competition is restricted to athletes  born in 2004 and before. \nREGISTRATIONS \nThe deadline is August 23th 2024 on Friday at 23.59. System will be locked down after the specified date and time. Province Approval Document will not be required for the age group category. \nDistribution of Race Kit will be in Kucuksu Meadow. (Click for Google maps) \nORAL B CHALLENGE İSTANBUL (OLYMPIC DISTANCE) \nENTRY FEE \nIndividual \n\n\n\nTear 1\n1 May – 2 June 2024\n80 Euro\n\n\nTear 2\n3 June – 31 July 2024\n85 Euro\n\n\nTear 3\n1 – 23 August 2024\n90 Euro\n\n\n\nRelay \n\n\n\nTear 1\n1 May – 2 June 2024\n150 Euro\n\n\nTear 2\n3 June – 31 July 2024\n160 Euro\n\n\nTear 3\n1 – 23 August 2024\n180 Euro\n\n\n\nTTF Licensed Individual Registration \n\n\n\nTear 1\n1 May – 2 June 2024\n40 Euro\n\n\nTear 2\n3 June – 31 July 2024\n45 Euro\n\n\nTear 3\n1 – 23 August 2024\n50 Euro\n\n\n\nTTF Licensed Relay Registratiton \n\n\n\nTear 1\n1 May – 2 June 2024\n100 Euro\n\n\nTear 2\n3 June – 31 July 2024\n110 Euro\n\n\nTear 3\n1 – 23 August 2024\n120 Euro\n\n\n\nDaily license application will be made for those who do not have a license. \nIMPORTANT POINTS \n\n\nNo refunds will be made except for force majeure (natural disasters\, flood\, fire\, earthquake\, social events\, terrorism) that may require the postponement and/or cancellation of the competition. \n\n\nThe fee paid for Oral-B Challenge İstanbul cannot be transferred to another competition. It cannot be transferred to a different person. \n\n\nInjury etc. With excuses\, team registration cannot be converted into individual registration\, nor individual registration into team registration. \n\n\nWrong entry of birth date etc. during registration. For any reason\, errors that may control the category and the podium must be corrected before the competition date. This responsibility belongs to the participant. The organization cannot be held responsible for any errors that may occur due to user information entry. \n\n\nUsers who receive a TTF license discount are required to have a Turkish Triathlon License with a visa during registration. Athletes who cannot present a Turkish Triathlon License with a visa can participate in the competition by paying the standard registration fee and an additional daily license fee (15€). The discounted fee paid by participants who cannot present a visa license in accordance with Article 1 will not be refunded. \n\n\nThe participant declares that he/she is aware of and accepts the conditions stated during registration\, in particular the conditions regarding no refunds. \n\n\nCHIP DISTRIBUTION AND CHIP USAGE \nTime chips will be distributed at the place and time specified in the program. If a person does not take his/her chip and race kit in time\, Chip and kit is given under some conditions in order to not to suffer any victimization to their friend or trainer. That persons should submit ID card’s copy\, licence and a petition letter which should be about taking the chip. Chips should be worn on the ankle and not removed during the race. \nTECHNICAL MEETING \nTechnical meeting will be held online withTTF Youtube page. Participation in Technical meeting is important in terms of to get pre-information about changes. The changes that are not foreseen before the organization and that are necessary for a safer conduct of the organization will be announced by the Organization Committee in the technical meeting via taking the opinion of the competition commission. All athletes will be accepted as participated to the meeting. Persons who did not attend the technical meeting\, will be deemed to have accepted any changed situation. \nCONTACT \n\n\n\nWhat\nContact\n\n\nRace Director\nFaruk Sarıbayır\n\n\nPhone\n+90 312 309 25 70\n\n\nE-mail (Race Director)\nfaruksaribayir@triatlon.org.tr\n\n\nE-mail (Race Office)\nchallenge@triatlon.org.tr\n\n\n\nWEATHER FORECAST AND SEA CONDITION \nWeather Forecast \nAverage Temperature 24C \nAverage Minimum Temperature 19C \nSea Temperature \nExpected Sea Temperature 23C
URL:https://triathlonphilippines.com/event/challenge-istanbul/
LOCATION:Istanbul\, Turkey
CATEGORIES:Triathlon
ATTACH;FMTTYPE=image/jpeg:https://triathlonphilippines.com/wp-content/uploads/2024/06/challengeistanbul2024haber.jpg
END:VEVENT
BEGIN:VEVENT
DTSTART;TZID=UTC:20240626T080000
DTEND;TZID=UTC:20240626T170000
DTSTAMP:20260425T015919
CREATED:20240626T153926Z
LAST-MODIFIED:20240626T153926Z
UID:9550-1719388800-1719421200@triathlonphilippines.com
SUMMARY:TriFactor Triathlon - Singapore
DESCRIPTION:Come and join us in the awesome experience of participating in the one-of-a-kind TriFactor Triathlon! Don’t miss your chance to be part of an amazing event! Join us for the unforgettable TriFactor Festival and experience cutting-edge sport science hacks\, a rehabilitation village\, and a family-friendly fun zone. Enjoy a range of activities from competitive races to family bonding\, and push yourself to new heights in your sporting practice. With something tailored for everyone\, this one-of-a-kind Festival is a must-attend event.
URL:https://triathlonphilippines.com/event/trifactor-triathlon-singapore/
CATEGORIES:Triathlon
END:VEVENT
BEGIN:VEVENT
DTSTART;TZID=UTC:20240626T080000
DTEND;TZID=UTC:20240626T170000
DTSTAMP:20260425T015919
CREATED:20240626T153646Z
LAST-MODIFIED:20240626T153646Z
UID:9547-1719388800-1719421200@triathlonphilippines.com
SUMMARY:Perak Triathlon Sprint
DESCRIPTION:Located on the beautiful coast of Teluk Muroh in Malaysia’s Perak region\, Marina Island Pangkor is a must-visit destination for international travelers. This stunning reclaimed land spans over 316.9 acres and is connected to the mainland by a 400-meter causeway bridge. As a gateway to the popular holiday retreats of Pangkor Island and Pangkor Laut\, Marina Island Pangkor offers endless opportunities for adventure and relaxation. And in the near future\, this idyllic spot will also be home to the fifth edition of the Perak Triathlon\, an exciting race organized by XS Elite Performance. Whether you’re a seasoned triathlete or just looking for a unique experience\, Marina Island Pangkor is the perfect place to make unforgettable memories.
URL:https://triathlonphilippines.com/event/perak-triathlon-sprint/
LOCATION:Malaysia\, Malaysia
CATEGORIES:Triathlon
END:VEVENT
BEGIN:VEVENT
DTSTART;TZID=UTC:20240626T080000
DTEND;TZID=UTC:20240626T170000
DTSTAMP:20260425T015919
CREATED:20240626T152959Z
LAST-MODIFIED:20240626T153502Z
UID:9542-1719388800-1719421200@triathlonphilippines.com
SUMMARY:Kisarazu Triathlon
DESCRIPTION:For more info\nhttps://kisarazu-tri.com/index.html
URL:https://triathlonphilippines.com/event/kisarazu-triathlon/
CATEGORIES:Triathlon
ATTACH;FMTTYPE=image/jpeg:https://triathlonphilippines.com/wp-content/uploads/2024/06/bnr_restube.jpg
END:VEVENT
BEGIN:VEVENT
DTSTART;TZID=UTC:20240609T080000
DTEND;TZID=UTC:20240609T170000
DTSTAMP:20260425T015919
CREATED:20240302T113357Z
LAST-MODIFIED:20240302T113357Z
UID:8973-1717920000-1717952400@triathlonphilippines.com
SUMMARY:IRONMAN 70.3 Subic Bay
DESCRIPTION:
URL:https://triathlonphilippines.com/event/ironman-70-3-subic-bay/
LOCATION:Subic Philippies\, Philippines
CATEGORIES:Triathlon
ATTACH;FMTTYPE=image/jpeg:https://triathlonphilippines.com/wp-content/uploads/2024/03/sub.jpg
END:VEVENT
BEGIN:VEVENT
DTSTART;TZID=UTC:20240421T080000
DTEND;TZID=UTC:20240421T170000
DTSTAMP:20260425T015919
CREATED:20240302T113044Z
LAST-MODIFIED:20240302T113044Z
UID:8969-1713686400-1713718800@triathlonphilippines.com
SUMMARY:IRONMAN 70.3 Lapu-Lapu
DESCRIPTION:
URL:https://triathlonphilippines.com/event/ironman-70-3-lapu-lapu/
LOCATION:Cebu\, Philippines
CATEGORIES:Triathlon
ATTACH;FMTTYPE=image/jpeg:https://triathlonphilippines.com/wp-content/uploads/2024/03/lapu.jpg
END:VEVENT
BEGIN:VEVENT
DTSTART;TZID=UTC:20240414T080000
DTEND;TZID=UTC:20240414T170000
DTSTAMP:20260425T015919
CREATED:20240302T112834Z
LAST-MODIFIED:20240302T112834Z
UID:8966-1713081600-1713114000@triathlonphilippines.com
SUMMARY:PTO Asian Open Singapore 2024
DESCRIPTION:
URL:https://triathlonphilippines.com/event/pto-asian-open-singapore-2024/
LOCATION:Singapore\, Singapore
CATEGORIES:Triathlon
ATTACH;FMTTYPE=image/jpeg:https://triathlonphilippines.com/wp-content/uploads/2019/06/423160307_7079119418872278_2611917754786209038_n.jpg
END:VEVENT
BEGIN:VEVENT
DTSTART;TZID=UTC:20240317T080000
DTEND;TZID=UTC:20240317T170000
DTSTAMP:20260425T015919
CREATED:20240302T110807Z
LAST-MODIFIED:20240302T110807Z
UID:8949-1710662400-1710694800@triathlonphilippines.com
SUMMARY:Tinman Triathlon Ilocos Norte 2024
DESCRIPTION:Dive into the TINMAN10 experience in Ilocos Norte.
URL:https://triathlonphilippines.com/event/tinman-triathlon-ilocos-norte-2024/
LOCATION:Ilocos\, Philippines\, Philippines
CATEGORIES:Triathlon
ATTACH;FMTTYPE=image/jpeg:https://triathlonphilippines.com/wp-content/uploads/2024/03/tin.jpg
END:VEVENT
BEGIN:VEVENT
DTSTART;TZID=UTC:20240310T053000
DTEND;TZID=UTC:20240310T120000
DTSTAMP:20260425T015919
CREATED:20240302T105425Z
LAST-MODIFIED:20240303T083459Z
UID:8937-1710048600-1710072000@triathlonphilippines.com
SUMMARY:My Daily Collagen Triathlon
DESCRIPTION:
URL:https://triathlonphilippines.com/event/my-daily-collagen-triathlon/
LOCATION:Subic Philippies\, Philippines
CATEGORIES:Triathlon
ATTACH;FMTTYPE=image/jpeg:https://triathlonphilippines.com/wp-content/uploads/2024/03/col.jpg
END:VEVENT
BEGIN:VEVENT
DTSTART;TZID=UTC:20240309T080000
DTEND;TZID=UTC:20240309T170000
DTSTAMP:20260425T015919
CREATED:20240228T085004Z
LAST-MODIFIED:20240228T085004Z
UID:8921-1709971200-1710003600@triathlonphilippines.com
SUMMARY:UBC Triathlon & Duathlon
DESCRIPTION:
URL:https://triathlonphilippines.com/event/ubc-triathlon-duathlon/
LOCATION:UBC Vancouver\, Canada
CATEGORIES:Triathlon
END:VEVENT
BEGIN:VEVENT
DTSTART;VALUE=DATE:20240225
DTEND;VALUE=DATE:20240226
DTSTAMP:20260425T015919
CREATED:20240112T083248Z
LAST-MODIFIED:20240112T083248Z
UID:8531-1708819200-1708905599@triathlonphilippines.com
SUMMARY:Trifactor Triathlon Philippines
DESCRIPTION:
URL:https://triathlonphilippines.com/event/trifactor-triathlon-philippines/
CATEGORIES:Triathlon
END:VEVENT
BEGIN:VEVENT
DTSTART;VALUE=DATE:20240211
DTEND;VALUE=DATE:20240212
DTSTAMP:20260425T015919
CREATED:20240112T083132Z
LAST-MODIFIED:20240112T083132Z
UID:8529-1707609600-1707695999@triathlonphilippines.com
SUMMARY:Sunrise Sprint Camsur
DESCRIPTION:
URL:https://triathlonphilippines.com/event/sunrise-sprint-camsur/
CATEGORIES:Triathlon
END:VEVENT
BEGIN:VEVENT
DTSTART;VALUE=DATE:20240127
DTEND;VALUE=DATE:20240129
DTSTAMP:20260425T015919
CREATED:20240112T082212Z
LAST-MODIFIED:20240112T082212Z
UID:8518-1706313600-1706486399@triathlonphilippines.com
SUMMARY:2024 National Age Group Triathlon Subic
DESCRIPTION:The Start List is now available for the 2024 NATIONAL AGE GROUP TRIATHLON organized by Triathlon Philippines in cooperation with the Subic Bay Metropolitan Authority. \nThis event is a qualifying race for the 2025 Southeast Asian Games in Thailand. This is also a part of the Triathlon Philippines’ triathlon trials and a talent identification for the Philippine Triathlon Team.
URL:https://triathlonphilippines.com/event/2024-national-age-group-triathlon-subic/
CATEGORIES:Triathlon
ATTACH;FMTTYPE=image/jpeg:https://triathlonphilippines.com/wp-content/uploads/2024/01/nagt.jpg
END:VEVENT
END:VCALENDAR