BEGIN:VCALENDAR
VERSION:2.0
PRODID:-//Triathlon Philippines - ECPv6.15.20//NONSGML v1.0//EN
CALSCALE:GREGORIAN
METHOD:PUBLISH
X-ORIGINAL-URL:https://triathlonphilippines.com
X-WR-CALDESC:Events for Triathlon Philippines
REFRESH-INTERVAL;VALUE=DURATION:PT1H
X-Robots-Tag:noindex
X-PUBLISHED-TTL:PT1H
BEGIN:VTIMEZONE
TZID:UTC
BEGIN:STANDARD
TZOFFSETFROM:+0000
TZOFFSETTO:+0000
TZNAME:UTC
DTSTART:20230101T000000
END:STANDARD
END:VTIMEZONE
BEGIN:VEVENT
DTSTART;TZID=UTC:20241117T000000
DTEND;TZID=UTC:20241117T000000
DTSTAMP:20260425T033410
CREATED:20241111T064004Z
LAST-MODIFIED:20241111T064004Z
UID:9698-1731801600-1731801600@triathlonphilippines.com
SUMMARY:Athleta Ako  Aquathlon
DESCRIPTION:
URL:https://triathlonphilippines.com/event/athleta-ako-aquathlon-2/
CATEGORIES:SWIM
END:VEVENT
END:VCALENDAR