BEGIN:VCALENDAR
VERSION:2.0
PRODID:-//Triathlon Philippines - ECPv6.15.20//NONSGML v1.0//EN
CALSCALE:GREGORIAN
METHOD:PUBLISH
X-ORIGINAL-URL:https://triathlonphilippines.com
X-WR-CALDESC:Events for Triathlon Philippines
REFRESH-INTERVAL;VALUE=DURATION:PT1H
X-Robots-Tag:noindex
X-PUBLISHED-TTL:PT1H
BEGIN:VTIMEZONE
TZID:UTC
BEGIN:STANDARD
TZOFFSETFROM:+0000
TZOFFSETTO:+0000
TZNAME:UTC
DTSTART:20250101T000000
END:STANDARD
END:VTIMEZONE
BEGIN:VEVENT
DTSTART;TZID=UTC:20260607T080000
DTEND;TZID=UTC:20260607T170000
DTSTAMP:20260425T001430
CREATED:20251002T185700Z
LAST-MODIFIED:20251002T185700Z
UID:9855-1780819200-1780851600@triathlonphilippines.com
SUMMARY:IRONMAN 70.3 Subic Bay  · 2026
DESCRIPTION:IRONMAN 70.3 Subic Bay – June 7\, 2026 (10th Edition!)\nA decade of unforgettable racing in Subic Bay! Athletes will take on the bay swim\, the smooth and challenging roads\, and the electric run course that has defined the Philippine triathlon scene for 10 years.\nAlongside this\, the weekend also features the 5th edition of IRONMAN Philippines\, making Subic Bay the ultimate race destination in 2026.\nMark your calendars\, train hard\, and be part of history.\n#IM703SubicBay #IRONMANPhilippines #SunriseEventsPH #AnythingIsPossible
URL:https://triathlonphilippines.com/event/ironman-70-3-subic-bay-%c2%b7-2026/
CATEGORIES:IRONMAN,Triathlon
ATTACH;FMTTYPE=image/jpeg:https://triathlonphilippines.com/wp-content/uploads/2025/06/CP0_0054-scaled.jpg
END:VEVENT
END:VCALENDAR