BEGIN:VCALENDAR
VERSION:2.0
PRODID:-//Triathlon Philippines - ECPv6.15.20//NONSGML v1.0//EN
CALSCALE:GREGORIAN
METHOD:PUBLISH
X-WR-CALNAME:Triathlon Philippines
X-ORIGINAL-URL:https://triathlonphilippines.com
X-WR-CALDESC:Events for Triathlon Philippines
REFRESH-INTERVAL;VALUE=DURATION:PT1H
X-Robots-Tag:noindex
X-PUBLISHED-TTL:PT1H
BEGIN:VTIMEZONE
TZID:UTC
BEGIN:STANDARD
TZOFFSETFROM:+0000
TZOFFSETTO:+0000
TZNAME:UTC
DTSTART:20250101T000000
END:STANDARD
END:VTIMEZONE
BEGIN:VEVENT
DTSTART;TZID=UTC:20261012T080000
DTEND;TZID=UTC:20261012T170000
DTSTAMP:20260425T131758
CREATED:20260330T025050Z
LAST-MODIFIED:20260330T025050Z
UID:9926-1791792000-1791824400@triathlonphilippines.com
SUMMARY:Chicago Marathon
DESCRIPTION:Chicago Marathon
URL:https://triathlonphilippines.com/event/chicago-marathon/
LOCATION:Chicago USA\, United States
CATEGORIES:Run
END:VEVENT
END:VCALENDAR