BEGIN:VCALENDAR
VERSION:2.0
PRODID:-//Triathlon Philippines - ECPv6.15.20//NONSGML v1.0//EN
CALSCALE:GREGORIAN
METHOD:PUBLISH
X-WR-CALNAME:Triathlon Philippines
X-ORIGINAL-URL:https://triathlonphilippines.com
X-WR-CALDESC:Events for Triathlon Philippines
REFRESH-INTERVAL;VALUE=DURATION:PT1H
X-Robots-Tag:noindex
X-PUBLISHED-TTL:PT1H
BEGIN:VTIMEZONE
TZID:UTC
BEGIN:STANDARD
TZOFFSETFROM:+0000
TZOFFSETTO:+0000
TZNAME:UTC
DTSTART:20240101T000000
END:STANDARD
END:VTIMEZONE
BEGIN:VEVENT
DTSTART;TZID=UTC:20251214T080000
DTEND;TZID=UTC:20251214T170000
DTSTAMP:20260425T102918
CREATED:20250716T075402Z
LAST-MODIFIED:20250716T075402Z
UID:9828-1765699200-1765731600@triathlonphilippines.com
SUMMARY:Mt. Fuji International Marathon
DESCRIPTION:  \nRegarding the Mt. Fuji International Marathon 2025 date\nDecember 27\, 2024\nWe are pleased to announce that the date for the Mt. Fuji International Marathon 2025. \nThe date will be changed from the fourth week of November in previous years and will be held on the second Sunday in December starting next year\, 2025. \nThe date will be Sunday\, December 14\, 2025. \nEntry is scheduled to open in late April 2025\, and we look forward to welcoming everyone’s entries.
URL:https://triathlonphilippines.com/event/mt-fuji-international-marathon/
CATEGORIES:Run
ATTACH;FMTTYPE=image/jpeg:https://triathlonphilippines.com/wp-content/uploads/2025/06/CP0_0132.jpg
END:VEVENT
END:VCALENDAR