BEGIN:VCALENDAR
VERSION:2.0
PRODID:-//Triathlon Philippines - ECPv6.15.20//NONSGML v1.0//EN
CALSCALE:GREGORIAN
METHOD:PUBLISH
X-ORIGINAL-URL:https://triathlonphilippines.com
X-WR-CALDESC:Events for Triathlon Philippines
REFRESH-INTERVAL;VALUE=DURATION:PT1H
X-Robots-Tag:noindex
X-PUBLISHED-TTL:PT1H
BEGIN:VTIMEZONE
TZID:UTC
BEGIN:STANDARD
TZOFFSETFROM:+0000
TZOFFSETTO:+0000
TZNAME:UTC
DTSTART:20240101T000000
END:STANDARD
END:VTIMEZONE
BEGIN:VEVENT
DTSTART;TZID=UTC:20250913T050000
DTEND;TZID=UTC:20250913T110000
DTSTAMP:20260425T155101
CREATED:20250709T054752Z
LAST-MODIFIED:20250709T054752Z
UID:9821-1757739600-1757761200@triathlonphilippines.com
SUMMARY:Phoenix Kids
DESCRIPTION:
URL:https://triathlonphilippines.com/event/phoenix-kids/
LOCATION:Clark\, Philippines\, Philippines
CATEGORIES:Run
END:VEVENT
END:VCALENDAR